BEGIN:VCALENDAR
VERSION:2.0
PRODID:-//Easter Seals Greater Houston - ECPv6.15.18//NONSGML v1.0//EN
CALSCALE:GREGORIAN
METHOD:PUBLISH
X-ORIGINAL-URL:https://eastersealshouston.org
X-WR-CALDESC:Events for Easter Seals Greater Houston
REFRESH-INTERVAL;VALUE=DURATION:PT1H
X-Robots-Tag:noindex
X-PUBLISHED-TTL:PT1H
BEGIN:VTIMEZONE
TZID:America/Chicago
BEGIN:DAYLIGHT
TZOFFSETFROM:-0600
TZOFFSETTO:-0500
TZNAME:CDT
DTSTART:20210314T080000
END:DAYLIGHT
BEGIN:STANDARD
TZOFFSETFROM:-0500
TZOFFSETTO:-0600
TZNAME:CST
DTSTART:20211107T070000
END:STANDARD
BEGIN:DAYLIGHT
TZOFFSETFROM:-0600
TZOFFSETTO:-0500
TZNAME:CDT
DTSTART:20220313T080000
END:DAYLIGHT
BEGIN:STANDARD
TZOFFSETFROM:-0500
TZOFFSETTO:-0600
TZNAME:CST
DTSTART:20221106T070000
END:STANDARD
BEGIN:DAYLIGHT
TZOFFSETFROM:-0600
TZOFFSETTO:-0500
TZNAME:CDT
DTSTART:20230312T080000
END:DAYLIGHT
BEGIN:STANDARD
TZOFFSETFROM:-0500
TZOFFSETTO:-0600
TZNAME:CST
DTSTART:20231105T070000
END:STANDARD
END:VTIMEZONE
BEGIN:VEVENT
DTSTART;TZID=America/Chicago:20220706T183000
DTEND;TZID=America/Chicago:20220706T210000
DTSTAMP:20260425T065525
CREATED:20220620T170049Z
LAST-MODIFIED:20220620T170049Z
UID:3642-1657132200-1657141200@eastersealshouston.org
SUMMARY:Adults with Disabilities (LEAD) Batman movie and tacos Outing
DESCRIPTION:If you are a Batman fan…more importantly if you like tacos\, then this is the outing for you. Join us for an evening with the caped crusaders and our RT Team. \nRSVP or email McKenzie at mgarland@eastersealshouston.org for more info.
URL:https://eastersealshouston.org/event/adults-with-disabilities-lead-batman-movie-and-tacos-outing/
ATTACH;FMTTYPE=image/jpeg:https://eastersealshouston.org/wp-content/uploads/2022/05/Adult-Program-Banner.jpg
END:VEVENT
BEGIN:VEVENT
DTSTART;TZID=America/Chicago:20220712T173000
DTEND;TZID=America/Chicago:20220712T180000
DTSTAMP:20260425T065525
CREATED:20211222T035003Z
LAST-MODIFIED:20220606T212050Z
UID:3464-1657647000-1657648800@eastersealshouston.org
SUMMARY:PlayGroup - Yoga
DESCRIPTION:Yoga (inclusive) program. \nServes ages 3-17 Children and youth with disabilities with completed application (max 10) \n-All Easter Seals Greater Houston employees\, volunteers\, participants\, and visitors have a responsibility for keeping our organization free of harassment*. You are asked be respectful to participants\, family members\, volunteers and Easter Seals Greater Houston employees\, when you are attending an Easter Seals Greater Houston sanctioned event.\n-Each participant must have a current signed waiver/release of liability.\n* Harassment may include\, but is not necessarily limited to offenses targeted against race\, color\, religion\, sex\, age\, national origin or ancestry\, disability\, medical condition\, marital status\, veteran status\, or any other protected status defined by law. \nTake time to share your yoga journey with us. We will focus on breathing techniques\, meditation\, stretching\, relaxation\, and range of motion exercises. \nPlease RSVP or email khartgraves@eastersealshouston.org \nNamaste.
URL:https://eastersealshouston.org/event/veterans-yoga-2022-07-12/
LOCATION:Easter Seals Greater Houston\, 4888 Loop Central\, Houston\, TX\, 77081\, United States
CATEGORIES:RT,Veterans
ATTACH;FMTTYPE=image/png:https://eastersealshouston.org/wp-content/uploads/2021/08/Greater_Houston_.png
END:VEVENT
BEGIN:VEVENT
DTSTART;TZID=America/Chicago:20220720T093000
DTEND;TZID=America/Chicago:20220720T133000
DTSTAMP:20260425T065525
CREATED:20220620T165607Z
LAST-MODIFIED:20220712T203641Z
UID:3639-1658309400-1658323800@eastersealshouston.org
SUMMARY:Adults with Disabilities (LEAD) The Sound of Music Outing
DESCRIPTION:The hills are alive with the sound of music! \nIf you enjoy the theater\, this outing is for you. \nRSVP or email Kim at khartgraves@eatersealshouston.org for more info.
URL:https://eastersealshouston.org/event/adults-with-disabilities-lead-the-sound-of-music-outing/
ATTACH;FMTTYPE=image/jpeg:https://eastersealshouston.org/wp-content/uploads/2022/05/Adult-Program-Banner.jpg
END:VEVENT
BEGIN:VEVENT
DTSTART;TZID=America/Chicago:20220723T120000
DTEND;TZID=America/Chicago:20220723T143000
DTSTAMP:20260425T065525
CREATED:20220701T163131Z
LAST-MODIFIED:20220701T163131Z
UID:3737-1658577600-1658586600@eastersealshouston.org
SUMMARY:Adults with Disabilities (LEAD) Bowling
DESCRIPTION:Join Donald for a fun afternoon of bowling! \nRSVP…ASAP… \nDetails will be emailed to you once the group is full or at least 48 hours in advance from the event.
URL:https://eastersealshouston.org/event/adults-with-disabilities-lead-bowling/
ATTACH;FMTTYPE=image/jpeg:https://eastersealshouston.org/wp-content/uploads/2022/05/Adult-Program-Banner.jpg
END:VEVENT
BEGIN:VEVENT
DTSTART;TZID=America/Chicago:20220726T173000
DTEND;TZID=America/Chicago:20220726T180000
DTSTAMP:20260425T065525
CREATED:20211214T195432Z
LAST-MODIFIED:20220629T212426Z
UID:3433-1658856600-1658858400@eastersealshouston.org
SUMMARY:PlayGroup - Art
DESCRIPTION:Serves ages 3-17 children and youth with disabilities with completed application (max 10) \n-All Easter Seals Greater Houston employees\, volunteers\, participants\, and visitors have a responsibility for keeping our organization free of harassment*. You are asked be respectful to participants\, family members\, volunteers and Easter Seals Greater Houston employees\, when you are attending an Easter Seals Greater Houston sanctioned event.\n-Each participant must have a current signed waiver/release of liability.\n* Harassment may include\, but is not necessarily limited to offenses targeted against race\, color\, religion\, sex\, age\, national origin or ancestry\, disability\, medical condition\, marital status\, veteran status\, or any other protected status defined by law. \nEmail larnold@eastersealshouston.org for registration or more information.
URL:https://eastersealshouston.org/event/veterans-test-event-2022-07-26/
LOCATION:Easter Seals Greater Houston\, 4888 Loop Central\, Houston\, TX\, 77081\, United States
CATEGORIES:Veterans
ATTACH;FMTTYPE=image/png:https://eastersealshouston.org/wp-content/uploads/2021/08/Greater_Houston_.png
END:VEVENT
END:VCALENDAR